{
 "currentVersion": 10.22,
 "serviceDescription": "Lakeland Electric Service territory 2017 aerial imagey as an image service. This service is published for the Lakeland Open Data site. Year flowin is 2017, resolution is 0.8x0.8ft.",
 "name": "Services/AerialsOD",
 "description": "Lakeland Electric Service territory 2017 aerial imagey as an image service. This service is published for the Lakeland Open Data site. Year flowin is 2017, resolution is 0.8x0.8ft.",
 "extent": {
  "xmin": 635000.0981641,
  "ymin": 1284999.9854996,
  "xmax": 720000.0981641,
  "ymax": 1429999.9854996,
  "spatialReference": {
   "wkid": 103023,
   "latestWkid": 103023
  }
 },
 "initialExtent": {
  "xmin": 635000.0981641,
  "ymin": 1284999.9854996,
  "xmax": 720000.0981641,
  "ymax": 1429999.9854996,
  "spatialReference": {
   "wkid": 103023,
   "latestWkid": 103023
  }
 },
 "fullExtent": {
  "xmin": 635000.0981641,
  "ymin": 1284999.9854996,
  "xmax": 720000.0981641,
  "ymax": 1429999.9854996,
  "spatialReference": {
   "wkid": 103023,
   "latestWkid": 103023
  }
 },
 "pixelSizeX": 0.8,
 "pixelSizeY": 0.8,
 "bandCount": 4,
 "pixelType": "U8",
 "minPixelSize": 0,
 "maxPixelSize": 0,
 "copyrightText": "Lakeland GIS",
 "serviceDataType": "esriImageServiceDataTypeGeneric",
 "minValues": [
  0,
  0,
  0,
  0
 ],
 "maxValues": [
  255,
  255,
  255,
  255
 ],
 "meanValues": [
  88.26257960733767,
  89.86989528325954,
  73.24696898381396,
  115.65123060688371
 ],
 "stdvValues": [
  45.39597339932346,
  41.31944820449749,
  37.11367541690228,
  52.794253317417684
 ],
 "objectIdField": "",
 "fields": [],
 "capabilities": "Mensuration,Image,Metadata",
 "defaultMosaicMethod": "Center",
 "allowedMosaicMethods": "",
 "sortField": "",
 "sortValue": null,
 "mosaicOperator": "First",
 "defaultCompressionQuality": 75,
 "defaultResamplingMethod": "Bilinear",
 "maxImageHeight": 4100,
 "maxImageWidth": 15000,
 "allowRasterFunction": true,
 "rasterFunctionInfos": [],
 "rasterTypeInfos": [
  {
   "name": "Raster Dataset",
   "description": "Supports all ArcGIS Raster Datasets",
   "help": ""
  }
 ],
 "mensurationCapabilities": "Basic",
 "hasHistograms": true,
 "hasColormap": false,
 "hasRasterAttributeTable": false,
 "minScale": 0,
 "maxScale": 0,
 "exportTilesAllowed": false,
 "supportsStatistics": false,
 "supportsAdvancedQueries": false,
 "editFieldsInfo": null,
 "ownershipBasedAccessControlForRasters": null,
 "allowComputeTiePoints": false,
 "useStandardizedQueries": true,
 "spatialReference": {
  "wkid": 103023,
  "latestWkid": 103023
 }
}
