{
 "currentVersion": 10.22,
 "serviceDescription": "Lakeland Electric Service area aerial imagery. Imagery was collected in 2017 and is set at a 0.8x0.8ft resolution. ",
 "mapName": "Layers",
 "description": "",
 "copyrightText": "Lakeland GIS ",
 "supportsDynamicLayers": false,
 "layers": [
  {
   "id": 0,
   "name": "Aerials ",
   "parentLayerId": -1,
   "defaultVisibility": true,
   "subLayerIds": null,
   "minScale": 295408.36012861726,
   "maxScale": 0
  }
 ],
 "tables": [],
 "spatialReference": {
  "wkid": 102659,
  "latestWkid": 2237
 },
 "singleFusedMapCache": true,
 "tileInfo": {
  "rows": 256,
  "cols": 256,
  "dpi": 96,
  "format": "Mixed",
  "compressionQuality": 75,
  "origin": {
   "x": -17791300,
   "y": 2.3981099999999993E7
  },
  "spatialReference": {
   "wkid": 102659,
   "latestWkid": 2237
  },
  "lods": [
   {
    "level": 0,
    "resolution": 217.01388888888889,
    "scale": 250000
   },
   {
    "level": 1,
    "resolution": 108.50694444444444,
    "scale": 125000
   },
   {
    "level": 2,
    "resolution": 55.55555555555555,
    "scale": 64000
   },
   {
    "level": 3,
    "resolution": 27.777777777777775,
    "scale": 32000
   },
   {
    "level": 4,
    "resolution": 13.888888888888888,
    "scale": 16000
   },
   {
    "level": 5,
    "resolution": 6.944444444444444,
    "scale": 8000
   },
   {
    "level": 6,
    "resolution": 3.472222222222222,
    "scale": 4000
   },
   {
    "level": 7,
    "resolution": 1.736111111111111,
    "scale": 2000
   },
   {
    "level": 8,
    "resolution": 0.8680555555555555,
    "scale": 1000
   },
   {
    "level": 9,
    "resolution": 0.43402777777777773,
    "scale": 500
   },
   {
    "level": 10,
    "resolution": 0.21701388888888887,
    "scale": 250
   }
  ]
 },
 "initialExtent": {
  "xmin": 593134.3425370919,
  "ymin": 1355704.9694224282,
  "xmax": 761865.8537911113,
  "ymax": 1437249.9854995988,
  "spatialReference": {
   "wkid": 102659,
   "latestWkid": 2237
  }
 },
 "fullExtent": {
  "xmin": 635000.0981640965,
  "ymin": 1284999.9854995997,
  "xmax": 720000.0981641037,
  "ymax": 1429999.9854996013,
  "spatialReference": {
   "wkid": 102659,
   "latestWkid": 2237
  }
 },
 "minScale": 250000,
 "maxScale": 250,
 "units": "esriFeet",
 "supportedImageFormatTypes": "PNG32,PNG24,PNG,JPG,DIB,TIFF,EMF,PS,PDF,GIF,SVG,SVGZ,BMP",
 "documentInfo": {
  "Title": "",
  "Author": "",
  "Comments": "Lakeland Electric Service area aerial imagery. Imagery was collected in 2017 and is set at a 0.8x0.8ft resolution. ",
  "Subject": "Lakeland Electric Service area aerial imagery. ",
  "Category": "",
  "AntialiasingMode": "None",
  "TextAntialiasingMode": "Force",
  "Keywords": "Lakeland Aerials "
 },
 "capabilities": "Map,Query,Data",
 "supportedQueryFormats": "JSON, AMF",
 "exportTilesAllowed": false,
 "maxRecordCount": 1000,
 "maxImageHeight": 4096,
 "maxImageWidth": 4096,
 "supportedExtensions": "KmlServer"
}
