View In:
ArcGIS JavaScript
ArcGIS.com Map
Google Earth
ArcMap
View Footprint In:
ArcGIS.com Map
Service Description: Lakeland Electric Service territory 2017 aerial imagey as an image service. This service is published for the Lakeland Open Data site. Year flowin is 2017, resolution is 0.8x0.8ft.
Name: Services/AerialsOD
Description: Lakeland Electric Service territory 2017 aerial imagey as an image service. This service is published for the Lakeland Open Data site. Year flowin is 2017, resolution is 0.8x0.8ft.
Single Fused Map Cache: false
Extent:
XMin: 635000.0981641
YMin: 1284999.9854996
XMax: 720000.0981641
YMax: 1429999.9854996
Spatial Reference: 103023
(103023)
Initial Extent:
XMin: 635000.0981641
YMin: 1284999.9854996
XMax: 720000.0981641
YMax: 1429999.9854996
Spatial Reference: 103023
(103023)
Full Extent:
XMin: 635000.0981641
YMin: 1284999.9854996
XMax: 720000.0981641
YMax: 1429999.9854996
Spatial Reference: 103023
(103023)
Pixel Size X: 0.8
Pixel Size Y: 0.8
Band Count: 4
Pixel Type: U8
RasterFunction Infos: N/A
Mensuration Capabilities: Basic
Has Histograms: true
Has Colormap: false
Min Scale: 0
Max Scale: 0
Copyright Text: Lakeland GIS
Service Data Type: esriImageServiceDataTypeGeneric
Min Values: 0, 0, 0, 0
Max Values: 255, 255, 255, 255
Mean Values: 88.26257960733767, 89.86989528325954, 73.24696898381396, 115.65123060688371
Standard Deviation Values: 45.39597339932346, 41.31944820449749, 37.11367541690228, 52.794253317417684
Object ID Field:
Fields:
None
Default Mosaic Method: Center
Allowed Mosaic Methods:
SortField:
SortValue: null
Mosaic Operator: First
Default Compression Quality: 75
Default Resampling Method: Bilinear
Max Record Count: null
Max Image Height: 4100
Max Image Width: 15000
Max Download Image Count: null
Max Mosaic Image Count: null
Allow Raster Function: true
Allow Compute TiePoints: false
Supports Statistics: false
Supports Advanced Queries: false
Use StandardizedQueries: true
Raster Type Infos:
Name: Raster Dataset
Description: Supports all ArcGIS Raster Datasets
Help:
Has Raster Attribute Table: false
Edit Fields Info: null
Ownership Based AccessControl For Rasters: null
Child Resources:
Info
Histograms
Key Properties
Legend
Supported Operations:
Export Image
Identify
Measure
Compute Histograms
Get Samples
Compute Class Statistics